BEGIN:VCALENDAR
VERSION:2.0
PRODID:-//wp-events-plugin.com//7.2.3.1//EN
TZID:America/Chicago
X-WR-TIMEZONE:America/Chicago
BEGIN:VEVENT
UID:16@thegroveatwhitescreek.com
DTSTART;TZID=America/Chicago:20260827T160000
DTEND;TZID=America/Chicago:20260830T110000
DTSTAMP:20260409T160138Z
URL:https://thegroveatwhitescreek.com/events/refilling-the-well-a-capacity
 -reset-for-the-depleted-soul/
SUMMARY:Refilling the Well: A Capacity Reset for the Depleted Soul
DESCRIPTION:Refilling the Well is a three-day wellness retreat near Nashvil
 le designed for rest\, renewal\, and reconnection. Hosted at The Grove at 
 Whites Creek\, this intimate retreat includes nourishing meals\, gentle mo
 vement\, workshops and restorative experiences to help you reset and resto
 re your energy.
ATTACH;FMTTYPE=image/jpeg:https://thegroveatwhitescreek.com/wp-content/upl
 oads/2026/02/Wellness-Retreat_1920x1080.png
LOCATION:The Grove at Whites Creek\, 4133 Whites Creek Pike\, Whites Creek\
 , TN\, 37189\, United States
X-APPLE-STRUCTURED-LOCATION;VALUE=URI;X-ADDRESS=4133 Whites Creek Pike\, Wh
 ites Creek\, TN\, 37189\, United States;X-APPLE-RADIUS=100;X-TITLE=The Gro
 ve at Whites Creek:geo:0,0
END:VEVENT
BEGIN:VTIMEZONE
TZID:America/Chicago
X-LIC-LOCATION:America/Chicago
BEGIN:DAYLIGHT
DTSTART:20260308T030000
TZOFFSETFROM:-0600
TZOFFSETTO:-0500
TZNAME:CDT
END:DAYLIGHT
END:VTIMEZONE
END:VCALENDAR